BEGIN:VCALENDAR
VERSION:2.0
PRODID:-//ExpressionEngine Easy iCalendar plugin//NONSGML v2.0.0//EN
X-WR-TIMEZONE:America/New_York
X-WR-CALNAME:Upcoming Auctions
BEGIN:VEVENT
UID:159513
DTSTAMP:20260420T170000
DTSTART:20260420T170000
DTEND:20260427T150000
SUMMARY:VEHICLES & MORE FROM RICHARD L ROSE ESTATE
LOCATION:423 W STATE ST\, North Baltimore\, OH 45872\, US
DESCRIPTION:There is a 15% buyer’s premium in effect for this auction.
   Vehicles\, golf cart\, motorcycle\, ladders\, fishing equipme
 nt\, large iron wheels\, floor fans\, transfer pumps\, tools\, de
 er mounts\, die cast cars\, propane tanks\, collectibles and so
  much more from the estate of Richard Rose.   AUCTION DATE
 S:  APRIL 20th - APRIL 27th AUCTION BEGINS CLOSING AT 3 PM 
 on MONDAY\, APRIL 27th AUCTION PICKUP: TUESDAY\, APRIL 28TH\, 
 3 PM TO 6 PM AUCTION PICKUP LOCATION:  423 W. STATE STREET\,
  NORTH BALTIMORE\, OH 45872
URL:https://www.donroseauctions.com/auctions/detail/bw159513
SEQUENCE:1
END:VEVENT
END:VCALENDAR